Workbook
Name _Hlk88742270: 'Ann- 8'!#REF!

Sheet Summary
A1: M/S ERVIKA GLOBAL PRIVATE LIMITED (IN CIRP)
A2: Claim Register as on 04.09.2026
A4: Filing under clause (ca) of sub-regulation (2) of regulation 13 of the IBBI (Insolvency Resolution Process for Corporate Persons) Regulations, 2016
K5: (Amount in ₹)
A6: Sl. No. | B6: Category of creditor | C6: Summary of claims received | E6: Summary of claims admitted | G6: Amount of contingent claims | H6: Amount of claims not admitted | I6: Amount of claims under verification | J6: Details in Annexure | K6: Remark , if any
C7: No. of claims | D7: Amount | E7: No. of claims | F7: Amount of claims admitted
A9: 1 | B9: Secured financial creditors belonging to any class of creditors | C9: 0 | D9: 0 | E9: =C9 -> 0 | F9: ='Ann- 3'!E11 -> 0 | G9: 0 | H9: 0 | I9: 0
A10: 2 | B10: Unsecured financial creditors belonging to any class of creditors | C10: 0 | D10: 0 | E10: =C10 -> 0 | F10: 0 | G10: 0 | H10: 0 | I10: 0
A11: 3 | B11: Secured financial creditors (other than financial creditors belonging to any class of creditors) | C11: 0 | D11: 0 | E11: =C11 -> 0 | F11: 0 | G11: 0 | H11: 0 | I11: 0 | J11: Annexure- 3
A12: 4 | B12: Unsecured financial creditors (other than financial creditors belonging to any class of creditors) | C12: 0 | D12: 0 | E12: =C12 -> 0 | F12: 0 | G12: 0 | H12: 0 | I12: 0 | J12: Annexure- 4
A13: 5 | B13: Operational creditors (Workmen) | C13: 0 | D13: 0 | E13: =C13 -> 0 | F13: 0 | G13: 0 | H13: 0 | I13: 0 | J13: Annexure- 5
A14: 6 | B14: Operational creditors (Employees) | C14: 0 | D14: 0 | E14: =C14 -> 0 | F14: 0 | G14: 0 | H14: 0 | I14: 0 | J14: Annexure- 6
A15: 7 | B15: Operational creditors (Government Dues) | C15: 0 | D15: 0 | E15: =C15 -> 0 | F15: 0 | G15: 0 | H15: 0 | I15: 0 | J15: Annexure- 7
A16: 8 | B16: Operational creditors (other than Workmen and Employees and Government Dues) | C16: 1 | D16: 16547709 | E16: =C16 -> 1 | F16: =D16 -> 16547709 | G16: 0 | H16: 0 | I16: 0 | J16: Annexure- 8
A17: 9 | B17: Other creditors, if any, (other than financial creditors and operational creditors) | C17: 0 | D17: 0 | E17: =C17 -> 0 | F17: 0 | G17: 0 | H17: 0 | I17: 0
A18: Total | C18: =SUM(C9:C17) -> 1 | D18: =SUM(D9:D17) -> 16547709 | E18: =SUM(E9:E17) -> 1 | F18: =SUM(F9:F17) -> 16547709 | G18: 0 | H18: =SUM(H9:H17) -> 0 | I18: =SUM(I9:I17) -> 0

Sheet Ann- 3
A2: Annexure-3
A3: Name of the corporate debtor: M/S. PEEL-WORKS PRIVATE LIMITED. ; Date of commencement of CIRP: 19/08/2026 ; List of creditors as on: 04/09/2026
A5: List of Secured financial creditors (other than financial creditors belonging to any class of creditors)
O6: =Summary!K5 -> (Amount in ₹)
A7: Sl. No. | B7: Name of creditor | C7: Details of claim received | E7: Details of claim admitted | K7: Amount of contingent claim | L7: Amount of any mutual dues, that may be setoff | M7: Amount of claim not admitted | N7: Amount of claim under verification | O7: Remarks, if any
C9: Date of receipt | D9: Amount claimed | E9: Amount of claim admitted | F9: Nature of claim | G9: Amount covered by security Interest | H9: Amount covered by guarantee | I9: Whether related party? | J9: % voting share in CoC
A12: - | B12: - | C12: - | D12: - | E12: - | F12: - | G12: - | H12: - | I12: - | J12: - | K12: - | L12: - | M12: - | N12: - | O12: -
E22: =#REF! -> #REF!

Sheet Ann- 4
A2: Annexure-4
A3: ='Ann- 3'!A3:O3 -> Name of the corporate debtor: M/S. PEEL-WORKS PRIVATE LIMITED. ; Date of commencement of CIRP: 19/08/2026 ; List of creditors as on: 04/09/2026
A5: List of Unsecured financial creditors (other than financial creditors belonging to any class of creditors)
N6: ='Ann- 3'!O6 -> (Amount in ₹)
A7: Sl. No. | B7: Name of creditor | C7: Details of claim received | E7: Details of claim admitted | J7: Amount of contingent claim | K7: Amount of any mutual dues, that may be set off | L7: Amount of claim not admitted | M7: Amount of claim under verification | N7: Remarks, if any
C8: Date of receipt | D8: Amount claimed | E8: Amount of claim admitted | F8: Nature of claim | G8: Amount covered by guarantee | H8: Whether related party? | I8: % of Voting share in CoC
A10: - | B10: - | C10: - | D10: - | E10: - | F10: - | G10: - | H10: - | I10: - | J10: 0 | K10: 0 | L10: 0 | M10: 0

Sheet Ann- 5
A2: Annexure-5
A3: ='Ann- 3'!A3:O3 -> Name of the corporate debtor: M/S. PEEL-WORKS PRIVATE LIMITED. ; Date of commencement of CIRP: 19/08/2026 ; List of creditors as on: 04/09/2026
A5: List of Operational Creditors (Workmen)
N6: (Amount in ₹)
A7: Sl.No. | B7: Name of authorised of representa- tive, if any | C7: Name of Workman | D7: Details of | F7: Details of claim admitted | J7: Amount of contingent claim | K7: Amount of any mutual dues, that may be set- off | L7: Amount of claim under verification | M7: Amount of claim not admitted | N7: Remarks, if any
D8: claim received
D9: Date of receipt | E9: Amount claimed | F9: Amount of claim admitted | G9: Nature of claim | H9: Whether related party? | I9: % of voting shar e in CoC, if applicable

Sheet Ann- 6
A2: Annexure-6
A3: ='Ann- 5'!A3:N3 -> Name of the corporate debtor: M/S. PEEL-WORKS PRIVATE LIMITED. ; Date of commencement of CIRP: 19/08/2026 ; List of creditors as on: 04/09/2026
A5: List of Operational Creditors (Employees)
N6: (Amount in ₹)
A7: Sl.No. | B7: Name of authorised of representa- tive, if any | C7: Name of Employee | D7: Details of | F7: Details of claim admitted | J7: Amount of contingent claim | K7: Amount of any mutual dues, that may be set- off | L7: Amount of claim under verification | M7: Amount of claim not admitted | N7: Remarks, if any
D8: claim received
D9: Date of receipt | E9: Amount claimed | F9: Amount of claim admitted | G9: Nature of claim | H9: Whether related party? | I9: % of voting shar e in CoC, if applicable
A11: - | B11: - | C11: - | D11: - | E11: - | F11: - | G11: - | H11: - | I11: - | J11: - | K11: - | L11: - | M11: - | N11: -

Sheet Ann- 7
A2: Annexure-7
A3: ='Ann- 6'!A3:N3 -> Name of the corporate debtor: M/S. PEEL-WORKS PRIVATE LIMITED. ; Date of commencement of CIRP: 19/08/2026 ; List of creditors as on: 04/09/2026
A5: List of Operational creditors (Government Dues)
A6: ='Ann- 6'!N6 -> (Amount in ₹)
A7: Sr. No. | B7: Name of creditor | C7: Details of claim received | E7: Details of claim admitted | K7: Amount of contingent claim | L7: Amount of any mutual dues, that may be set-off | M7: Amount of claim not admitted | N7: Amount of claim under verification | O7: Remarks, if any
C8: Date of receipt | D8: Amount claimed | E8: Amount of claim admitted | F8: Nature of claim | G8: Amount covered by security Interest | H8: Amount covered by guarantee | I8: Whether related party? | J8: % of voting share in CoC
A10: - | B10: - | C10: - | D10: - | E10: - | F10: - | G10: - | H10: - | I10: - | J10: - | K10: - | L10: - | M10: - | N10: - | O10: -

Sheet Ann- 8
A2: Annexure-8
A3: ='Ann- 7'!A3:O3 -> Name of the corporate debtor: M/S. PEEL-WORKS PRIVATE LIMITED. ; Date of commencement of CIRP: 19/08/2026 ; List of creditors as on: 04/09/2026
A5: List of Operational creditors (other than Workmen and Employees and Government Dues)
O6: (Amount in ₹)
A7: Sr. No. | B7: Name of creditor | C7: Details of claim received | E7: Details of claim admitted | K7: Amount of contingent claim | L7: Amount of any mutual dues, that may be set-off | M7: Amount of claim not admitted | N7: Amount of claim under verification | O7: Remarks, if any
C8: Date of receipt | D8: Amount claimed | E8: Amount of claim admitted | F8: Nature of claim | G8: Amount covered by security Interest | H8: Amount covered by guarante | I8: Whether related party? | J8: % of voting share in CoC
A10: 1 | B10: Knitscraft Textile LLP | C10: 02.09.2026 | D10: 16547709 | E10: 16547709 | F10: Unsecured | G10: - | H10: - | I10: No | J10: 1 | K10: - | L10: - | M10: - | N10: =D10-E10 -> 0 | O10: Detailed books of accounts are not available. Amount admitted provisonally.
